BEGIN:VCALENDAR
VERSION:2.0
PRODID:-//eventon.com NONSGML v1.0//EN
BEGIN:VEVENT
UID:69ea73ee5a00c
DTSTAMP:20260423T143302
DTSTART:20161204T020000Z
DTEND:20161203T060000Z
LOCATION:
SUMMARY:Jingle Ball
DESCRIPTION: https://www.eventbrite.com/e/jingle-ball-2016-at-speakeasy-tickets-29027807955
END:VEVENT
END:VCALENDAR