BEGIN:VCALENDAR
VERSION:2.0
PRODID:-//eventon.com NONSGML v1.0//EN
BEGIN:VEVENT
UID:69ea5e6bdf937
DTSTAMP:20260423T130115
DTSTART:20161208T023000Z
DTEND:20161207T060000Z
LOCATION:
SUMMARY:Young Girls/ Bruce 3 and the Revenge
DESCRIPTION: 9:30pm Young Girls 11:30pm Bruce 3 and the Revenge
END:VEVENT
END:VCALENDAR