BEGIN:VCALENDAR
VERSION:2.0
PRODID:-//eventon.com NONSGML v1.0//EN
BEGIN:VEVENT
UID:69ea4ab60a03b
DTSTAMP:20260423T113710
DTSTART:20161207T023000Z
DTEND:20161206T060000Z
LOCATION:Speakeasy 412 Congress Ave\,  Austin\,  Texas 78701
SUMMARY:Kenny McCardle
DESCRIPTION: Kenny McCardle
END:VEVENT
END:VCALENDAR