BEGIN:VCALENDAR
VERSION:2.0
PRODID:-//eventon.com NONSGML v1.0//EN
BEGIN:VEVENT
UID:69ea48aa8afc0
DTSTAMP:20260423T112826
DTSTART:20161203T033000Z
DTEND:20161202T063000Z
LOCATION:Speakeasy 412 Congress Ave\,  Austin\,  Texas 78701
SUMMARY:Thomas and Hall
DESCRIPTION: 10:30pm Thomas and Hall
END:VEVENT
END:VCALENDAR