BEGIN:VCALENDAR
VERSION:2.0
PRODID:-//eventon.com NONSGML v1.0//EN
BEGIN:VEVENT
UID:69ea1dcece968
DTSTAMP:20260423T082534
DTSTART:20161202T023000Z
DTEND:20161201T063000Z
LOCATION:Speakeasy 412 Congress Ave\,  Austin\,  Texas 78701
SUMMARY:The Vinyl Revival
DESCRIPTION: No Cover
END:VEVENT
END:VCALENDAR