BEGIN:VCALENDAR
VERSION:2.0
PRODID:-//eventon.com NONSGML v1.0//EN
BEGIN:VEVENT
UID:69ea06aae7b8c
DTSTAMP:20260423T064650
DTSTART:20161201T023000Z
DTEND:20161130T060000Z
LOCATION:
SUMMARY:The Allen Adam Boys
DESCRIPTION: The Allen Adam Boys
END:VEVENT
END:VCALENDAR