BEGIN:VCALENDAR
VERSION:2.0
PRODID:-//eventon.com NONSGML v1.0//EN
BEGIN:VEVENT
UID:69e9f288105b9
DTSTAMP:20260423T052056
DTSTART:20161120T050000Z
DTEND:20161121T045900Z
LOCATION:Speakeasy 412 Congress Ave\,  Austin\,  Texas 78701
SUMMARY:Book Your Private Event!
DESCRIPTION: Book Your Private Event!
END:VEVENT
END:VCALENDAR