BEGIN:VCALENDAR
VERSION:2.0
PRODID:-//eventon.com NONSGML v1.0//EN
BEGIN:VEVENT
UID:69e9d8244a8c8
DTSTAMP:20260423T032820
DTSTART:20161114T003000Z
DTEND:20161113T060000Z
LOCATION:
SUMMARY:Prototype: A Night of Artistic Soul
DESCRIPTION: https://www.eventbrite.com/e/prototype-a-night-of-artistic-soul-tickets-28509213826
END:VEVENT
END:VCALENDAR