BEGIN:VCALENDAR
VERSION:2.0
PRODID:-//eventon.com NONSGML v1.0//EN
BEGIN:VEVENT
UID:69e9c2cf195c5
DTSTAMP:20260423T015719
DTSTART:20161213T023000Z
DTEND:20161213T045000Z
LOCATION:Speakeasy 412 Congress Ave\,  Austin\,  Texas 78701
SUMMARY:Open Mic Night With Ronnie Hall
DESCRIPTION: Open Mic Night With Ronnie Hall
END:VEVENT
END:VCALENDAR