BEGIN:VCALENDAR
VERSION:2.0
PRODID:-//eventon.com NONSGML v1.0//EN
BEGIN:VEVENT
UID:69e9ac85c2d3e
DTSTAMP:20260423T002213
DTSTART:20161124T130000Z
DTEND:20161124T060000Z
LOCATION:
SUMMARY:Happy Thanksgiving!
DESCRIPTION: Happy Thanksgiving!
END:VEVENT
END:VCALENDAR