BEGIN:VCALENDAR
VERSION:2.0
PRODID:-//eventon.com NONSGML v1.0//EN
BEGIN:VEVENT
UID:69e99344a7c6e
DTSTAMP:20260422T223428
DTSTART:20161130T023000Z
DTEND:20161129T060000Z
LOCATION:
SUMMARY:Benjamin Griffith
DESCRIPTION: Benjamin Griffith
END:VEVENT
END:VCALENDAR