BEGIN:VCALENDAR
VERSION:2.0
PRODID:-//eventon.com NONSGML v1.0//EN
BEGIN:VEVENT
UID:69e99197e3f70
DTSTAMP:20260422T222719
DTSTART:20161127T024500Z
DTEND:20161126T063000Z
LOCATION:Speakeasy 412 Congress Ave\,  Austin\,  Texas 78701
SUMMARY:The Vinyl Revival (+January and June Happy Hour at 7pm)
DESCRIPTION: 7:00pm January and June 9:45pm The Vinyl Revival
END:VEVENT
END:VCALENDAR