BEGIN:VCALENDAR
VERSION:2.0
PRODID:-//eventon.com NONSGML v1.0//EN
BEGIN:VEVENT
UID:69e96238efc53
DTSTAMP:20260422T190512
DTSTART:20161126T024500Z
DTEND:20161125T064500Z
LOCATION:Speakeasy 412 Congress Ave\,  Austin\,  Texas 78701
SUMMARY:Suede (+Nate Grant Happy Hour at 7pm)
DESCRIPTION: 7:00pm Nate Grant 9:45pm Suede &nbsp;
END:VEVENT
END:VCALENDAR