BEGIN:VCALENDAR
VERSION:2.0
PRODID:-//eventon.com NONSGML v1.0//EN
BEGIN:VEVENT
UID:69e94767c41aa
DTSTAMP:20260422T171047
DTSTART:20161124T024500Z
DTEND:20161123T060000Z
LOCATION:
SUMMARY:Safety Patrol
DESCRIPTION: Safety Patrol
END:VEVENT
END:VCALENDAR