BEGIN:VCALENDAR
VERSION:2.0
PRODID:-//eventon.com NONSGML v1.0//EN
BEGIN:VEVENT
UID:69e930c0c0df2
DTSTAMP:20260422T153408
DTSTART:20161123T023000Z
DTEND:20161122T060000Z
LOCATION:
SUMMARY:EmJae Ross
DESCRIPTION: EmJae Ross
END:VEVENT
END:VCALENDAR