BEGIN:VCALENDAR
VERSION:2.0
PRODID:-//eventon.com NONSGML v1.0//EN
BEGIN:VEVENT
UID:69e91c06a0713
DTSTAMP:20260422T140542
DTSTART:20161120T010000Z
DTEND:20161119T060000Z
LOCATION:
SUMMARY:Closed for Private Event
DESCRIPTION: Closed for Private Event
END:VEVENT
END:VCALENDAR