BEGIN:VCALENDAR
VERSION:2.0
PRODID:-//eventon.com NONSGML v1.0//EN
BEGIN:VEVENT
UID:69e917c9229d7
DTSTAMP:20260422T134737
DTSTART:20161119T024500Z
DTEND:20161118T060000Z
LOCATION:
SUMMARY:High Road (+Matt Creaton Happy Hour)
DESCRIPTION: 7:00pm Matt Creaton 9:45pm High Road
END:VEVENT
END:VCALENDAR