BEGIN:VCALENDAR
VERSION:2.0
PRODID:-//eventon.com NONSGML v1.0//EN
BEGIN:VEVENT
UID:69e8eea543c31
DTSTAMP:20260422T105205
DTSTART:20161118T023000Z
DTEND:20161117T060000Z
LOCATION:Speakeasy 412 Congress Ave\,  Austin\,  Texas 78701
SUMMARY:King George
DESCRIPTION: King George
END:VEVENT
END:VCALENDAR