BEGIN:VCALENDAR
VERSION:2.0
PRODID:-//eventon.com NONSGML v1.0//EN
BEGIN:VEVENT
UID:69e8d8a526135
DTSTAMP:20260422T091813
DTSTART:20161116T023000Z
DTEND:20161115T060000Z
LOCATION:Speakeasy 412 Congress Ave\,  Austin\,  Texas 78701
SUMMARY:Kenny McCardle
DESCRIPTION: Kenny McCardle
END:VEVENT
END:VCALENDAR