BEGIN:VCALENDAR
VERSION:2.0
PRODID:-//eventon.com NONSGML v1.0//EN
BEGIN:VEVENT
UID:69e8c2ead917a
DTSTAMP:20260422T074530
DTSTART:20161111T030000Z
DTEND:20161110T063000Z
LOCATION:Speakeasy 412 Congress Ave\,  Austin\,  Texas 78701
SUMMARY:The Vinyl Revival (+Comedy Showcase at 8pm)
DESCRIPTION: 8:00pm Comedy Showcase 10:00pm Vinyl Revival
END:VEVENT
END:VCALENDAR