BEGIN:VCALENDAR
VERSION:2.0
PRODID:-//eventon.com NONSGML v1.0//EN
BEGIN:VEVENT
UID:69e8c3cb63dd2
DTSTAMP:20260422T074915
DTSTART:20161113T024500Z
DTEND:20161112T060000Z
LOCATION:Speakeasy 412 Congress Ave\,  Austin\,  Texas 78701
SUMMARY:Austin Party Band (+ EmJae Ross Happy Hour)
DESCRIPTION: EmJae Ross 7:00pm Austin Party Band 9:45pm
END:VEVENT
END:VCALENDAR