BEGIN:VCALENDAR
VERSION:2.0
PRODID:-//eventon.com NONSGML v1.0//EN
BEGIN:VEVENT
UID:69e8926285b22
DTSTAMP:20260422T041826
DTSTART:20161112T024500Z
DTEND:20161111T060000Z
LOCATION:
SUMMARY:Southtown (+Cowboy Diplomacy Happy Hour at 7pm) (and Bob Popular in Kabaret at 9:30pm)
DESCRIPTION: 7:00pm Cowboy Diplomacy 9:45pm Southtown 9:30pm (in Kabaret) - Bob Popular (Benefitting the Band Aid Music Foundation)
END:VEVENT
END:VCALENDAR