BEGIN:VCALENDAR
VERSION:2.0
PRODID:-//eventon.com NONSGML v1.0//EN
BEGIN:VEVENT
UID:69e87c30e0213
DTSTAMP:20260422T024344
DTSTART:20161028T030000Z
DTEND:20161027T063000Z
LOCATION:Speakeasy 412 Congress Ave\,  Austin\,  Texas 78701
SUMMARY:The Vinyl Revival (+Comedy Showcase at 8pm)
DESCRIPTION: 8:00pm Comedy Showcase 10:00pm Vinyl Revival
END:VEVENT
END:VCALENDAR