BEGIN:VCALENDAR
VERSION:2.0
PRODID:-//eventon.com NONSGML v1.0//EN
BEGIN:VEVENT
UID:69e87928af207
DTSTAMP:20260422T023048
DTSTART:20161110T023000Z
DTEND:20161109T060000Z
LOCATION:Speakeasy 412 Congress Ave\,  Austin\,  Texas 78701
SUMMARY:Chris Castaneda Project
DESCRIPTION: Chris Castaneda Project
END:VEVENT
END:VCALENDAR