BEGIN:VCALENDAR
VERSION:2.0
PRODID:-//eventon.com NONSGML v1.0//EN
BEGIN:VEVENT
UID:69e8508934d5c
DTSTAMP:20260421T233729
DTSTART:20161109T023000Z
DTEND:20161108T060000Z
LOCATION:
SUMMARY:Nate Grant
DESCRIPTION: Nate Grant
END:VEVENT
END:VCALENDAR