BEGIN:VCALENDAR
VERSION:2.0
PRODID:-//eventon.com NONSGML v1.0//EN
BEGIN:VEVENT
UID:69e833ab3d451
DTSTAMP:20260421T213419
DTSTART:20161106T023000Z
DTEND:20161105T063000Z
LOCATION:Speakeasy 412 Congress Ave\,  Austin\,  Texas 78701
SUMMARY:Finite Fidelity (+ Trey Soignet Happy Hour at 7pm)
DESCRIPTION: 7:00pm Trey Soignet 9:45pm Finite Fidelity
END:VEVENT
END:VCALENDAR