BEGIN:VCALENDAR
VERSION:2.0
PRODID:-//eventon.com NONSGML v1.0//EN
BEGIN:VEVENT
UID:69e81e255c675
DTSTAMP:20260421T200229
DTSTART:20161105T024500Z
DTEND:20161104T064500Z
LOCATION:Speakeasy 412 Congress Ave\,  Austin\,  Texas 78701
SUMMARY:Rock Hard (+Nichole Wagner Happy Hour at 7pm)
DESCRIPTION: 7:00pm Nichole Wagner 9:45pm Rock Hard
END:VEVENT
END:VCALENDAR