BEGIN:VCALENDAR
VERSION:2.0
PRODID:-//eventon.com NONSGML v1.0//EN
BEGIN:VEVENT
UID:69e803cb424bc
DTSTAMP:20260421T181003
DTSTART:20161104T023000Z
DTEND:20161103T060000Z
LOCATION:
SUMMARY:James Speer
DESCRIPTION: James Speer
END:VEVENT
END:VCALENDAR