BEGIN:VCALENDAR
VERSION:2.0
PRODID:-//eventon.com NONSGML v1.0//EN
BEGIN:VEVENT
UID:69e7e97883e5e
DTSTAMP:20260421T161744
DTSTART:20161103T023000Z
DTEND:20161102T063000Z
LOCATION:Speakeasy 412 Congress Ave\,  Austin\,  Texas 78701
SUMMARY:NYOB
DESCRIPTION: NYOB
END:VEVENT
END:VCALENDAR