BEGIN:VCALENDAR
VERSION:2.0
PRODID:-//eventon.com NONSGML v1.0//EN
BEGIN:VEVENT
UID:69e7d1eb5ce7f
DTSTAMP:20260421T143715
DTSTART:20161102T023000Z
DTEND:20161101T060000Z
LOCATION:
SUMMARY:Benjamin Griffith
DESCRIPTION: Benjamin Griffith
END:VEVENT
END:VCALENDAR