BEGIN:VCALENDAR
VERSION:2.0
PRODID:-//eventon.com NONSGML v1.0//EN
BEGIN:VEVENT
UID:69e7b6da31995
DTSTAMP:20260421T124146
DTSTART:20161016T024500Z
DTEND:20161015T063000Z
LOCATION:Speakeasy 412 Congress Ave\,  Austin\,  Texas 78701
SUMMARY:Thomas and Hall
DESCRIPTION: 9:45pm Thomas and Hall
END:VEVENT
END:VCALENDAR