BEGIN:VCALENDAR
VERSION:2.0
PRODID:-//eventon.com NONSGML v1.0//EN
BEGIN:VEVENT
UID:69e7af42e9744
DTSTAMP:20260421T120922
DTSTART:20161026T023000Z
DTEND:20161025T060000Z
LOCATION:
SUMMARY:Marshall Moon
DESCRIPTION: 9:30pm
END:VEVENT
END:VCALENDAR