BEGIN:VCALENDAR
VERSION:2.0
PRODID:-//eventon.com NONSGML v1.0//EN
BEGIN:VEVENT
UID:69e79986e1424
DTSTAMP:20260421T103638
DTSTART:20161015T034500Z
DTEND:20161014T060000Z
LOCATION:
SUMMARY:Ter'ell's Soul Session with Chris Castaneda Project
DESCRIPTION: 10:45pm Ter'ell's Soul Session with Chris Castaneda Project
END:VEVENT
END:VCALENDAR