BEGIN:VCALENDAR
VERSION:2.0
PRODID:-//eventon.com NONSGML v1.0//EN
BEGIN:VEVENT
UID:69e76dbb43772
DTSTAMP:20260421T072947
DTSTART:20161013T023000Z
DTEND:20161012T060000Z
LOCATION:
SUMMARY:Casie Luong
DESCRIPTION: Casie Luong
END:VEVENT
END:VCALENDAR