BEGIN:VCALENDAR
VERSION:2.0
PRODID:-//eventon.com NONSGML v1.0//EN
BEGIN:VEVENT
UID:69e75457c1eaa
DTSTAMP:20260421T054127
DTSTART:20161030T024500Z
DTEND:20161029T060000Z
LOCATION:Speakeasy 412 Congress Ave\,  Austin\,  Texas 78701
SUMMARY:Plush (+EmJae Ross Happy Hour)
DESCRIPTION: 7:00pm EmJae Ross 9:45pm Plush
END:VEVENT
END:VCALENDAR