BEGIN:VCALENDAR
VERSION:2.0
PRODID:-//eventon.com NONSGML v1.0//EN
BEGIN:VEVENT
UID:69e9da26c44da
DTSTAMP:20260423T033654
DTSTART:20161029T024500Z
DTEND:20161028T060000Z
LOCATION:
SUMMARY:HotSauce ATX (+Josh Ross Happy Hour)
DESCRIPTION: 7:00pm Josh Ross 9:45pm HotSauceATX
END:VEVENT
END:VCALENDAR