BEGIN:VCALENDAR
VERSION:2.0
PRODID:-//eventon.com NONSGML v1.0//EN
BEGIN:VEVENT
UID:69e7202e77a79
DTSTAMP:20260421T015854
DTSTART:20161028T023000Z
DTEND:20161027T063000Z
LOCATION:Speakeasy 412 Congress Ave\,  Austin\,  Texas 78701
SUMMARY:The Vinyl Revival
DESCRIPTION: No Cover
END:VEVENT
END:VCALENDAR