BEGIN:VCALENDAR
VERSION:2.0
PRODID:-//eventon.com NONSGML v1.0//EN
BEGIN:VEVENT
UID:69e7082712b1b
DTSTAMP:20260421T001623
DTSTART:20161023T023000Z
DTEND:20161022T060000Z
LOCATION:
SUMMARY:Eclipse (+EmJae Ross Happy Hour)
DESCRIPTION: 7:00pm EmJae Ross 9:45pm Eclipse
END:VEVENT
END:VCALENDAR