BEGIN:VCALENDAR
VERSION:2.0
PRODID:-//eventon.com NONSGML v1.0//EN
BEGIN:VEVENT
UID:69e6f21252dcb
DTSTAMP:20260420T224210
DTSTART:20161022T024500Z
DTEND:20161021T060000Z
LOCATION:
SUMMARY:Safety Patrol (+Melissa Englemann Happy Hour)
DESCRIPTION: Safety Patrol (+Melissa Englemann Happy Hour)
END:VEVENT
END:VCALENDAR