BEGIN:VCALENDAR
VERSION:2.0
PRODID:-//eventon.com NONSGML v1.0//EN
BEGIN:VEVENT
UID:69e6da9fed684
DTSTAMP:20260420T210207
DTSTART:20161021T023000Z
DTEND:20161020T060000Z
LOCATION:Speakeasy 412 Congress Ave\,  Austin\,  Texas 78701
SUMMARY:Jordan Cody/ Marc Rudin
DESCRIPTION: No Cover Jordan Cody - 9:30 PM Marc Rudin - 11:30 PM
END:VEVENT
END:VCALENDAR