BEGIN:VCALENDAR
VERSION:2.0
PRODID:-//eventon.com NONSGML v1.0//EN
BEGIN:VEVENT
UID:69e6bf41cb800
DTSTAMP:20260420T190521
DTSTART:20161020T023000Z
DTEND:20161019T060000Z
LOCATION:
SUMMARY:Much Love
DESCRIPTION: Much Love
END:VEVENT
END:VCALENDAR