BEGIN:VCALENDAR
VERSION:2.0
PRODID:-//eventon.com NONSGML v1.0//EN
BEGIN:VEVENT
UID:69e6a4b6d677f
DTSTAMP:20260420T171206
DTSTART:20161019T023000Z
DTEND:20161018T060000Z
LOCATION:
SUMMARY:Benjamin Griffith
DESCRIPTION: Benjamin Griffith
END:VEVENT
END:VCALENDAR