BEGIN:VCALENDAR
VERSION:2.0
PRODID:-//eventon.com NONSGML v1.0//EN
BEGIN:VEVENT
UID:69e68b6d2f729
DTSTAMP:20260420T152413
DTSTART:20161014T023000Z
DTEND:20161013T060000Z
LOCATION:Speakeasy 412 Congress Ave\,  Austin\,  Texas 78701
SUMMARY:The Soapboxers Showcase 11:30pm (+Comedy Showcase 9:30pm)
DESCRIPTION: Comedy Showcase 9:30pm Soapboxers Showcase 11:30pm
END:VEVENT
END:VCALENDAR