BEGIN:VCALENDAR
VERSION:2.0
PRODID:-//eventon.com NONSGML v1.0//EN
BEGIN:VEVENT
UID:69e66e5096443
DTSTAMP:20260420T132000
DTSTART:20161012T023000Z
DTEND:20161011T060000Z
LOCATION:
SUMMARY:EmJae Ross
DESCRIPTION: EmJae Ross
END:VEVENT
END:VCALENDAR