BEGIN:VCALENDAR
VERSION:2.0
PRODID:-//eventon.com NONSGML v1.0//EN
BEGIN:VEVENT
UID:69e656d37f7e2
DTSTAMP:20260420T113947
DTSTART:20161008T050500Z
DTEND:20161009T045500Z
LOCATION:Speakeasy 412 Congress Ave\,  Austin\,  Texas 78701
SUMMARY:Sauce (+Marshall Moon Happy Hour)
DESCRIPTION: 7:00pm Marshall Moon 9:45pm Sauce
END:VEVENT
END:VCALENDAR