BEGIN:VCALENDAR
VERSION:2.0
PRODID:-//eventon.com NONSGML v1.0//EN
BEGIN:VEVENT
UID:69e642af112a7
DTSTAMP:20260420T101351
DTSTART:20161008T024500Z
DTEND:20161007T060000Z
LOCATION:
SUMMARY:Steep Cats (+Nichole Wagner Happy Hour)
DESCRIPTION: 7:00pm Nichole Wagner 9:45pm Steep Cats
END:VEVENT
END:VCALENDAR