BEGIN:VCALENDAR
VERSION:2.0
PRODID:-//eventon.com NONSGML v1.0//EN
BEGIN:VEVENT
UID:69e6114776872
DTSTAMP:20260420T064303
DTSTART:20161006T023000Z
DTEND:20161005T060000Z
LOCATION:
SUMMARY:Dave Scher Trio
DESCRIPTION: Dave Scher Trio
END:VEVENT
END:VCALENDAR