BEGIN:VCALENDAR
VERSION:2.0
PRODID:-//eventon.com NONSGML v1.0//EN
BEGIN:VEVENT
UID:69e5f92b09bfd
DTSTAMP:20260420T050011
DTSTART:20161005T023000Z
DTEND:20161004T060000Z
LOCATION:Speakeasy 412 Congress Ave\,  Austin\,  Texas 78701
SUMMARY:Josh Ross
DESCRIPTION: Josh Ross
END:VEVENT
END:VCALENDAR