BEGIN:VCALENDAR
VERSION:2.0
PRODID:-//eventon.com NONSGML v1.0//EN
BEGIN:VEVENT
UID:69e5e1923f587
DTSTAMP:20260420T031930
DTSTART:20161002T024500Z
DTEND:20161001T064500Z
LOCATION:Speakeasy 412 Congress Ave\,  Austin\,  Texas 78701
SUMMARY:Suede (+Benjamin Griffith Happy Hour)
DESCRIPTION: 7:00pm Benjamin Griffith 9:45pm Suede &nbsp;
END:VEVENT
END:VCALENDAR