BEGIN:VCALENDAR
VERSION:2.0
PRODID:-//eventon.com NONSGML v1.0//EN
BEGIN:VEVENT
UID:69e5e215ca050
DTSTAMP:20260420T032141
DTSTART:20160921T023000Z
DTEND:20160920T060000Z
LOCATION:
SUMMARY:Private Event
DESCRIPTION: Private Event
END:VEVENT
END:VCALENDAR